BEGIN:VCALENDAR
VERSION:2.0
PRODID:-//NADI Kg Sungai Leman, Sekincan - ECPv6.15.20//NONSGML v1.0//EN
CALSCALE:GREGORIAN
METHOD:PUBLISH
X-WR-CALNAME:NADI Kg Sungai Leman, Sekincan
X-ORIGINAL-URL:https://sgleman.nadi.my
X-WR-CALDESC:Events for NADI Kg Sungai Leman, Sekincan
REFRESH-INTERVAL;VALUE=DURATION:PT1H
X-Robots-Tag:noindex
X-PUBLISHED-TTL:PT1H
BEGIN:VTIMEZONE
TZID:UTC
BEGIN:STANDARD
TZOFFSETFROM:+0000
TZOFFSETTO:+0000
TZNAME:UTC
DTSTART:20210101T000000
END:STANDARD
END:VTIMEZONE
BEGIN:VEVENT
DTSTART;TZID=UTC:20220516T093000
DTEND;TZID=UTC:20220516T120000
DTSTAMP:20260421T134202
CREATED:20220428T234151Z
LAST-MODIFIED:20220428T234151Z
UID:7636-1652693400-1652702400@sgleman.nadi.my
SUMMARY:MICROSOFT EXCEL (BASIC)
DESCRIPTION:
URL:https://sgleman.nadi.my/event/microsoft-excel-basic/
CATEGORIES:DEFAULT
END:VEVENT
BEGIN:VEVENT
DTSTART;TZID=UTC:20220518T093000
DTEND;TZID=UTC:20220518T123000
DTSTAMP:20260421T134202
CREATED:20220428T234303Z
LAST-MODIFIED:20220428T234303Z
UID:7637-1652866200-1652877000@sgleman.nadi.my
SUMMARY:BASIC EFFECTIVE PRESENTATION WITH POWER POINT
DESCRIPTION:
URL:https://sgleman.nadi.my/event/basic-effective-presentation-with-power-point-2/
CATEGORIES:DEFAULT
END:VEVENT
BEGIN:VEVENT
DTSTART;TZID=UTC:20220524T093000
DTEND;TZID=UTC:20220524T120000
DTSTAMP:20260421T134202
CREATED:20220428T234335Z
LAST-MODIFIED:20220428T234335Z
UID:7638-1653384600-1653393600@sgleman.nadi.my
SUMMARY:CHANGE WORDS & NUMBERS INTO GRAPHIC IN POWERPOIN
DESCRIPTION:
URL:https://sgleman.nadi.my/event/change-words-numbers-into-graphic-in-powerpoin/
CATEGORIES:DEFAULT
END:VEVENT
BEGIN:VEVENT
DTSTART;TZID=UTC:20220526T090000
DTEND;TZID=UTC:20220526T120000
DTSTAMP:20260421T134202
CREATED:20220428T234404Z
LAST-MODIFIED:20220428T234404Z
UID:7639-1653555600-1653566400@sgleman.nadi.my
SUMMARY:SHOPEE MARKETPLACE (ADVANCE)
DESCRIPTION:
URL:https://sgleman.nadi.my/event/shopee-marketplace-advance-2/
CATEGORIES:DEFAULT
END:VEVENT
END:VCALENDAR