BEGIN:VCALENDAR
VERSION:2.0
PRODID:-//NADI Kg Sungai Leman, Sekincan - ECPv6.15.20//NONSGML v1.0//EN
CALSCALE:GREGORIAN
METHOD:PUBLISH
X-WR-CALNAME:NADI Kg Sungai Leman, Sekincan
X-ORIGINAL-URL:https://sgleman.nadi.my
X-WR-CALDESC:Events for NADI Kg Sungai Leman, Sekincan
REFRESH-INTERVAL;VALUE=DURATION:PT1H
X-Robots-Tag:noindex
X-PUBLISHED-TTL:PT1H
BEGIN:VTIMEZONE
TZID:UTC
BEGIN:STANDARD
TZOFFSETFROM:+0000
TZOFFSETTO:+0000
TZNAME:UTC
DTSTART:20210101T000000
END:STANDARD
END:VTIMEZONE
BEGIN:VEVENT
DTSTART;TZID=UTC:20220411T090000
DTEND;TZID=UTC:20220411T140000
DTSTAMP:20260422T102934
CREATED:20220405T201517Z
LAST-MODIFIED:20220405T201517Z
UID:7631-1649667600-1649685600@sgleman.nadi.my
SUMMARY:BASIC EFFECTIVE PRESENTATION WITH POWER POINT
DESCRIPTION:
URL:https://sgleman.nadi.my/event/basic-effective-presentation-with-power-point/
CATEGORIES:DEFAULT
END:VEVENT
BEGIN:VEVENT
DTSTART;TZID=UTC:20220413T090000
DTEND;TZID=UTC:20220413T120000
DTSTAMP:20260422T102934
CREATED:20220405T201556Z
LAST-MODIFIED:20220405T201556Z
UID:7632-1649840400-1649851200@sgleman.nadi.my
SUMMARY:CHANGE WORDS & NUMBERS INTO GRAPHIC IN POWERPOINT
DESCRIPTION:
URL:https://sgleman.nadi.my/event/change-words-numbers-into-graphic-in-powerpoint/
CATEGORIES:DEFAULT
END:VEVENT
BEGIN:VEVENT
DTSTART;TZID=UTC:20220416T090000
DTEND;TZID=UTC:20220416T120000
DTSTAMP:20260422T102934
CREATED:20220405T201642Z
LAST-MODIFIED:20220405T201642Z
UID:7633-1650099600-1650110400@sgleman.nadi.my
SUMMARY:SHOPEE MARKETPLACE (ADVANCE)
DESCRIPTION:
URL:https://sgleman.nadi.my/event/shopee-marketplace-advance/
CATEGORIES:DEFAULT
END:VEVENT
BEGIN:VEVENT
DTSTART;TZID=UTC:20220420T083000
DTEND;TZID=UTC:20220420T120000
DTSTAMP:20260422T102934
CREATED:20220405T201712Z
LAST-MODIFIED:20220405T201712Z
UID:7634-1650443400-1650456000@sgleman.nadi.my
SUMMARY:ASAS CREATING CHILDREN E-BOOK WITH CANVA
DESCRIPTION:
URL:https://sgleman.nadi.my/event/asas-creating-children-e-book-with-canva/
CATEGORIES:DEFAULT
END:VEVENT
BEGIN:VEVENT
DTSTART;TZID=UTC:20220424T083000
DTEND;TZID=UTC:20220424T120000
DTSTAMP:20260422T102934
CREATED:20220405T201758Z
LAST-MODIFIED:20220405T201758Z
UID:7635-1650789000-1650801600@sgleman.nadi.my
SUMMARY:ASAS PEMBANGUNAN GOOGLE SLIDES DAN E-SIJIL
DESCRIPTION:
URL:https://sgleman.nadi.my/event/asas-pembangunan-google-slides-dan-e-sijil/
CATEGORIES:DEFAULT
END:VEVENT
END:VCALENDAR