BEGIN:VCALENDAR
VERSION:2.0
PRODID:-//NADI Kg Sungai Leman, Sekincan - ECPv6.15.20//NONSGML v1.0//EN
CALSCALE:GREGORIAN
METHOD:PUBLISH
X-WR-CALNAME:NADI Kg Sungai Leman, Sekincan
X-ORIGINAL-URL:https://sgleman.nadi.my
X-WR-CALDESC:Events for NADI Kg Sungai Leman, Sekincan
REFRESH-INTERVAL;VALUE=DURATION:PT1H
X-Robots-Tag:noindex
X-PUBLISHED-TTL:PT1H
BEGIN:VTIMEZONE
TZID:UTC
BEGIN:STANDARD
TZOFFSETFROM:+0000
TZOFFSETTO:+0000
TZNAME:UTC
DTSTART:20210101T000000
END:STANDARD
END:VTIMEZONE
BEGIN:VEVENT
DTSTART;TZID=UTC:20220203T100000
DTEND;TZID=UTC:20220203T120000
DTSTAMP:20260423T194704
CREATED:20220129T174259Z
LAST-MODIFIED:20220129T174259Z
UID:7617-1643882400-1643889600@sgleman.nadi.my
SUMMARY:MICROSOFT WORD (BEGINNER)
DESCRIPTION:
URL:https://sgleman.nadi.my/event/microsoft-word-beginner/
CATEGORIES:DEFAULT
END:VEVENT
BEGIN:VEVENT
DTSTART;TZID=UTC:20220206T100000
DTEND;TZID=UTC:20220206T120000
DTSTAMP:20260423T194704
CREATED:20220129T174344Z
LAST-MODIFIED:20220129T174344Z
UID:7618-1644141600-1644148800@sgleman.nadi.my
SUMMARY:ASAS CREATING POSTER USING CANVA
DESCRIPTION:
URL:https://sgleman.nadi.my/event/asas-creating-poster-using-canva/
CATEGORIES:DEFAULT
END:VEVENT
BEGIN:VEVENT
DTSTART;TZID=UTC:20220208T090000
DTEND;TZID=UTC:20220208T120000
DTSTAMP:20260423T194704
CREATED:20220129T174418Z
LAST-MODIFIED:20220129T174418Z
UID:7619-1644310800-1644321600@sgleman.nadi.my
SUMMARY:MICROSOFT POWERPOINT (BASIC)
DESCRIPTION:
URL:https://sgleman.nadi.my/event/microsoft-powerpoint-basic/
CATEGORIES:DEFAULT
END:VEVENT
BEGIN:VEVENT
DTSTART;TZID=UTC:20220210T100000
DTEND;TZID=UTC:20220210T120000
DTSTAMP:20260423T194704
CREATED:20220129T174441Z
LAST-MODIFIED:20220129T174441Z
UID:7620-1644487200-1644494400@sgleman.nadi.my
SUMMARY:POSTER MUDAH DENGAN CANVA
DESCRIPTION:
URL:https://sgleman.nadi.my/event/poster-mudah-dengan-canva/
CATEGORIES:DEFAULT
END:VEVENT
BEGIN:VEVENT
DTSTART;TZID=UTC:20220213T093000
DTEND;TZID=UTC:20220213T120000
DTSTAMP:20260423T194704
CREATED:20220129T174528Z
LAST-MODIFIED:20220129T174528Z
UID:7621-1644744600-1644753600@sgleman.nadi.my
SUMMARY:PENGGUNAAN WHATSAPP BUSINESS DALAM PERNIAGAAN
DESCRIPTION:
URL:https://sgleman.nadi.my/event/penggunaan-whatsapp-business-dalam-perniagaan/
CATEGORIES:DEFAULT
END:VEVENT
BEGIN:VEVENT
DTSTART;TZID=UTC:20220217T090000
DTEND;TZID=UTC:20220217T170000
DTSTAMP:20260423T194704
CREATED:20220129T174607Z
LAST-MODIFIED:20220129T174607Z
UID:7622-1645088400-1645117200@sgleman.nadi.my
SUMMARY:ASAS MICROSOFT EXCEL (BEGINNER)
DESCRIPTION:
URL:https://sgleman.nadi.my/event/asas-microsoft-excel-beginner/
CATEGORIES:DEFAULT
END:VEVENT
BEGIN:VEVENT
DTSTART;TZID=UTC:20220218T090000
DTEND;TZID=UTC:20220218T120000
DTSTAMP:20260423T194704
CREATED:20220129T174711Z
LAST-MODIFIED:20220129T174711Z
UID:7623-1645174800-1645185600@sgleman.nadi.my
SUMMARY:KEMAHIRAN KOMPUTER
DESCRIPTION:
URL:https://sgleman.nadi.my/event/kemahiran-komputer/
CATEGORIES:DEFAULT
END:VEVENT
BEGIN:VEVENT
DTSTART;TZID=UTC:20220225T000000
DTEND;TZID=UTC:20220225T170000
DTSTAMP:20260423T194704
CREATED:20220129T174733Z
LAST-MODIFIED:20220129T174733Z
UID:7624-1645747200-1645808400@sgleman.nadi.my
SUMMARY:PENGHASILAN SLIDE PERSEMBAHAN MENGGUNAKAN POWERPOINT
DESCRIPTION:
URL:https://sgleman.nadi.my/event/penghasilan-slide-persembahan-menggunakan-powerpoint/
CATEGORIES:DEFAULT
END:VEVENT
END:VCALENDAR