BEGIN:VCALENDAR
VERSION:2.0
PRODID:-//NADI Kg Sungai Leman, Sekincan - ECPv6.15.20//NONSGML v1.0//EN
CALSCALE:GREGORIAN
METHOD:PUBLISH
X-WR-CALNAME:NADI Kg Sungai Leman, Sekincan
X-ORIGINAL-URL:https://sgleman.nadi.my
X-WR-CALDESC:Events for NADI Kg Sungai Leman, Sekincan
REFRESH-INTERVAL;VALUE=DURATION:PT1H
X-Robots-Tag:noindex
X-PUBLISHED-TTL:PT1H
BEGIN:VTIMEZONE
TZID:UTC
BEGIN:STANDARD
TZOFFSETFROM:+0000
TZOFFSETTO:+0000
TZNAME:UTC
DTSTART:20200101T000000
END:STANDARD
END:VTIMEZONE
BEGIN:VEVENT
DTSTART;TZID=UTC:20211214T020000
DTEND;TZID=UTC:20211214T170000
DTSTAMP:20260425T121422
CREATED:20211122T223335Z
LAST-MODIFIED:20211122T223335Z
UID:7615-1639447200-1639501200@sgleman.nadi.my
SUMMARY:Asas Penulisan Kertas Kerja dan Laporan Guru Tadika
DESCRIPTION:
URL:https://sgleman.nadi.my/event/asas-penulisan-kertas-kerja-dan-laporan-guru-tadika/
CATEGORIES:DEFAULT
END:VEVENT
END:VCALENDAR