BEGIN:VCALENDAR
VERSION:2.0
PRODID:-//NADI Kg Sungai Leman, Sekincan - ECPv6.15.20//NONSGML v1.0//EN
CALSCALE:GREGORIAN
METHOD:PUBLISH
X-WR-CALNAME:NADI Kg Sungai Leman, Sekincan
X-ORIGINAL-URL:https://sgleman.nadi.my
X-WR-CALDESC:Events for NADI Kg Sungai Leman, Sekincan
REFRESH-INTERVAL;VALUE=DURATION:PT1H
X-Robots-Tag:noindex
X-PUBLISHED-TTL:PT1H
BEGIN:VTIMEZONE
TZID:UTC
BEGIN:STANDARD
TZOFFSETFROM:+0000
TZOFFSETTO:+0000
TZNAME:UTC
DTSTART:20210101T000000
END:STANDARD
END:VTIMEZONE
BEGIN:VEVENT
DTSTART;TZID=UTC:20220817T100000
DTEND;TZID=UTC:20220817T120000
DTSTAMP:20260421T012257
CREATED:20220725T235253Z
LAST-MODIFIED:20220725T235253Z
UID:7659-1660730400-1660737600@sgleman.nadi.my
SUMMARY:Asas Keselamat ICT - Network Troubleshoot
DESCRIPTION:
URL:https://sgleman.nadi.my/event/asas-keselamat-ict-network-troubleshoot/
CATEGORIES:DEFAULT
END:VEVENT
END:VCALENDAR