BEGIN:VCALENDAR
VERSION:2.0
PRODID:-//NADI Kg Sungai Leman, Sekincan - ECPv6.15.20//NONSGML v1.0//EN
CALSCALE:GREGORIAN
METHOD:PUBLISH
X-WR-CALNAME:NADI Kg Sungai Leman, Sekincan
X-ORIGINAL-URL:https://sgleman.nadi.my
X-WR-CALDESC:Events for NADI Kg Sungai Leman, Sekincan
REFRESH-INTERVAL;VALUE=DURATION:PT1H
X-Robots-Tag:noindex
X-PUBLISHED-TTL:PT1H
BEGIN:VTIMEZONE
TZID:UTC
BEGIN:STANDARD
TZOFFSETFROM:+0000
TZOFFSETTO:+0000
TZNAME:UTC
DTSTART:20210101T000000
END:STANDARD
END:VTIMEZONE
BEGIN:VEVENT
DTSTART;TZID=UTC:20220811T093000
DTEND;TZID=UTC:20220811T120000
DTSTAMP:20260419T203437
CREATED:20220725T235114Z
LAST-MODIFIED:20220725T235114Z
UID:7657-1660210200-1660219200@sgleman.nadi.my
SUMMARY:Be Creative With Powerpoint Presention
DESCRIPTION:
URL:https://sgleman.nadi.my/event/be-creative-with-powerpoint-presention/
CATEGORIES:DEFAULT
END:VEVENT
END:VCALENDAR