BEGIN:VCALENDAR
VERSION:2.0
PRODID:-//NADI Kg Sungai Leman, Sekincan - ECPv6.15.20//NONSGML v1.0//EN
CALSCALE:GREGORIAN
METHOD:PUBLISH
X-WR-CALNAME:NADI Kg Sungai Leman, Sekincan
X-ORIGINAL-URL:https://sgleman.nadi.my
X-WR-CALDESC:Events for NADI Kg Sungai Leman, Sekincan
REFRESH-INTERVAL;VALUE=DURATION:PT1H
X-Robots-Tag:noindex
X-PUBLISHED-TTL:PT1H
BEGIN:VTIMEZONE
TZID:UTC
BEGIN:STANDARD
TZOFFSETFROM:+0000
TZOFFSETTO:+0000
TZNAME:UTC
DTSTART:20210101T000000
END:STANDARD
END:VTIMEZONE
BEGIN:VEVENT
DTSTART;TZID=UTC:20220727T140000
DTEND;TZID=UTC:20220727T163000
DTSTAMP:20260421T200636
CREATED:20220725T235722Z
LAST-MODIFIED:20220725T235722Z
UID:7661-1658930400-1658939400@sgleman.nadi.my
SUMMARY:Akses dan Keselamatan Internet Memperkasa Wanita Malaysia Dalam Bidang STEM
DESCRIPTION:FB Live ‘KlikDenganBijak’
URL:https://sgleman.nadi.my/event/akses-dan-keselamatan-internet-memperkasa-wanita-malaysia-dalam-bidang-stem/
CATEGORIES:DEFAULT
END:VEVENT
END:VCALENDAR