BEGIN:VCALENDAR
VERSION:2.0
PRODID:-//NADI Kg Sungai Leman, Sekincan - ECPv6.15.20//NONSGML v1.0//EN
CALSCALE:GREGORIAN
METHOD:PUBLISH
X-ORIGINAL-URL:https://sgleman.nadi.my
X-WR-CALDESC:Events for NADI Kg Sungai Leman, Sekincan
REFRESH-INTERVAL;VALUE=DURATION:PT1H
X-Robots-Tag:noindex
X-PUBLISHED-TTL:PT1H
BEGIN:VTIMEZONE
TZID:UTC
BEGIN:STANDARD
TZOFFSETFROM:+0000
TZOFFSETTO:+0000
TZNAME:UTC
DTSTART:20210101T000000
END:STANDARD
END:VTIMEZONE
BEGIN:VEVENT
DTSTART;TZID=UTC:20220707T090000
DTEND;TZID=UTC:20220707T120000
DTSTAMP:20260421T061147
CREATED:20220627T235224Z
LAST-MODIFIED:20220627T235224Z
UID:7646-1657184400-1657195200@sgleman.nadi.my
SUMMARY:Keusahawanan Digital : Facebook & Marketplace untuk Periagaan
DESCRIPTION:
URL:https://sgleman.nadi.my/event/keusahawanan-digital-facebook-marketplace-untuk-periagaan/
CATEGORIES:DEFAULT
END:VEVENT
END:VCALENDAR