BEGIN:VCALENDAR
VERSION:2.0
PRODID:-//NADI Kg Sungai Leman, Sekincan - ECPv6.15.20//NONSGML v1.0//EN
CALSCALE:GREGORIAN
METHOD:PUBLISH
X-WR-CALNAME:NADI Kg Sungai Leman, Sekincan
X-ORIGINAL-URL:https://sgleman.nadi.my
X-WR-CALDESC:Events for NADI Kg Sungai Leman, Sekincan
REFRESH-INTERVAL;VALUE=DURATION:PT1H
X-Robots-Tag:noindex
X-PUBLISHED-TTL:PT1H
BEGIN:VTIMEZONE
TZID:UTC
BEGIN:STANDARD
TZOFFSETFROM:+0000
TZOFFSETTO:+0000
TZNAME:UTC
DTSTART:20210101T000000
END:STANDARD
END:VTIMEZONE
BEGIN:VEVENT
DTSTART;TZID=UTC:20220622T090000
DTEND;TZID=UTC:20220628T120000
DTSTAMP:20260421T045855
CREATED:20220628T000208Z
LAST-MODIFIED:20220628T000208Z
UID:7650-1655888400-1656417600@sgleman.nadi.my
SUMMARY:Interactive Learning Tools Using Kahoot and quizizz
DESCRIPTION:
URL:https://sgleman.nadi.my/event/interactive-learning-tools-using-kahoot-and-quizizz/
CATEGORIES:DEFAULT
END:VEVENT
END:VCALENDAR