BEGIN:VCALENDAR
VERSION:2.0
PRODID:-//NADI Kg Sungai Leman, Sekincan - ECPv6.15.20//NONSGML v1.0//EN
CALSCALE:GREGORIAN
METHOD:PUBLISH
X-WR-CALNAME:NADI Kg Sungai Leman, Sekincan
X-ORIGINAL-URL:https://sgleman.nadi.my
X-WR-CALDESC:Events for NADI Kg Sungai Leman, Sekincan
REFRESH-INTERVAL;VALUE=DURATION:PT1H
X-Robots-Tag:noindex
X-PUBLISHED-TTL:PT1H
BEGIN:VTIMEZONE
TZID:UTC
BEGIN:STANDARD
TZOFFSETFROM:+0000
TZOFFSETTO:+0000
TZNAME:UTC
DTSTART:20210101T000000
END:STANDARD
END:VTIMEZONE
BEGIN:VEVENT
DTSTART;TZID=UTC:20220322T093000
DTEND;TZID=UTC:20220322T123000
DTSTAMP:20260423T044637
CREATED:20220226T225423Z
LAST-MODIFIED:20220226T225423Z
UID:7629-1647941400-1647952200@sgleman.nadi.my
SUMMARY:Basic Excel for Beginner
DESCRIPTION:
URL:https://sgleman.nadi.my/event/basic-excel-for-beginner/
CATEGORIES:DEFAULT
END:VEVENT
END:VCALENDAR