BEGIN:VCALENDAR
VERSION:2.0
PRODID:-//NADI Kg Sungai Leman, Sekincan - ECPv6.15.20//NONSGML v1.0//EN
CALSCALE:GREGORIAN
METHOD:PUBLISH
X-WR-CALNAME:NADI Kg Sungai Leman, Sekincan
X-ORIGINAL-URL:https://sgleman.nadi.my
X-WR-CALDESC:Events for NADI Kg Sungai Leman, Sekincan
REFRESH-INTERVAL;VALUE=DURATION:PT1H
X-Robots-Tag:noindex
X-PUBLISHED-TTL:PT1H
BEGIN:VTIMEZONE
TZID:UTC
BEGIN:STANDARD
TZOFFSETFROM:+0000
TZOFFSETTO:+0000
TZNAME:UTC
DTSTART:20200101T000000
END:STANDARD
END:VTIMEZONE
BEGIN:VEVENT
DTSTART;TZID=UTC:20211210T090000
DTEND;TZID=UTC:20211210T130000
DTSTAMP:20260425T212050
CREATED:20211122T223232Z
LAST-MODIFIED:20211122T223232Z
UID:7614-1639126800-1639141200@sgleman.nadi.my
SUMMARY:Asas Internet Of Things (IOT)
DESCRIPTION:
URL:https://sgleman.nadi.my/event/asas-internet-of-things-iot/
CATEGORIES:DEFAULT
END:VEVENT
END:VCALENDAR